Workbook
Name _tds1: #REF!
Name _tds1: #REF!
Name _tds2: #REF!
Name _tds2: #REF!
Name AIR.Code001: #REF!
Name AIR.Code001: #REF!
Name AIR.Code002: #REF!
Name AIR.Code002: #REF!
Name AIR.Code003: #REF!
Name AIR.Code003: #REF!
Name AIR.Code004: #REF!
Name AIR.Code004: #REF!
Name AIR.Code005: #REF!
Name AIR.Code005: #REF!
Name AIR.Code006: #REF!
Name AIR.Code006: #REF!
Name AIR.Code007: #REF!
Name AIR.Code007: #REF!
Name AIR.Code008: #REF!
Name AIR.Code008: #REF!
Name AIR.TaxExmpIntInc: #REF!
Name AIR.TaxExmpIntInc: #REF!
Name Bank1: #REF!
Name Bank1: #REF!
Name Bank10: #REF!
Name Bank10: #REF!
Name Bank11: #REF!
Name Bank11: #REF!
Name Bank12: #REF!
Name Bank12: #REF!
Name Bank2: #REF!
Name Bank2: #REF!
Name Bank3: #REF!
Name Bank3: #REF!
Name Bank4: #REF!
Name Bank4: #REF!
Name Bank5: #REF!
Name Bank5: #REF!
Name Bank6: #REF!
Name Bank6: #REF!
Name Bank6PCAR: #REF!
Name Bank6PCAR: #REF!
Name Bank7: #REF!
Name Bank7: #REF!
Name Bank8: #REF!
Name Bank8: #REF!
Name Bank9: #REF!
Name Bank9: #REF!
Name BankAccNo: #REF!
Name BankAccNo: #REF!
Name BankArrear: #REF!
Name BankArrear: #REF!
Name BankArrear0: #REF!
Name BankArrear0: #REF!
Name BankArrear1: #REF!
Name BankArrear1: #REF!
Name BankArrear2: #REF!
Name BankArrear2: #REF!
Name BankArrear3: #REF!
Name BankArrear3: #REF!

Sheet MASTER
A1: lHkh ihys lsy vo'; HkjsaA
A2: dk;kZy; dk uke % | B2: GSSS
A3: dk;kZy; dk TAN % | B3: AAAAXXXXXA
A4: dkfeZd dk uke % | B4: Employee Name | C4: in % | D4: Teacher
A5: dkfeZd dk PAN % | B5: AAAAAXXXXA | C5: cSad [kkrk la[;k % | D5: 9XXXXXXXXXXXXX9
A6: jkT; chek ekfld dVkSrh % | B6: 7000 | C6: Mobile No. :
A7: March 2025 dk ewy osru % | B7: 75400 | C7: HRA (March 25) : | D7: 0.1
A8: D;k vki GPF 2004 वाले gS \ | B8: Yes | C8: D;k vkidks cksul feyk gS \ | D8: No
A9: D;k vkius o"kZ 2025&26 esa lefZiZr fy;k gS \ | B9: Yes | C9: lefZiZr fcy dk ekg % | D9: 4
A10: D;k vkius RGHS fy;k gS \ | B10: YES | C10: समूह दुर्घटना बीमा प्रीमियम GIS | D10: 1400
A11: D;k vki ofj"B ukxfjd ¼60&80 vk;qoxZ½ esa vkrs gS \ | B11: No | C11: dkfZeZd dh Js.kh % | D11: =IF(B7>0,IF(B7<26000,"E",IF(B7<39000,"D",IF(B7<49000,"C",IF(B7<95000,"B","A")))),"") -> B
A12: DA Arrear (07/25-09/25) | B12: Yes | C12: DA Arrear (01/25-03/25) | D12: Yes
A13: https://yogeshmaheshwari.com/vetan-draw/

Sheet GA-55
B1: =MASTER!B2 -> GSSS
B2: INCOME TAX CALCULATION (GA-55) 2024-25
B3: NAME : | C3: =MASTER!B4 -> Employee Name | J3: MOB NO. | L3: =MASTER!D6 -> 0 | P3: PAN : | Q3: =MASTER!B5 -> AAAAAXXXXA | U3: TAN: | V3: =MASTER!B3 -> AAAAXXXXXA | Z3: Account No | AB3: =MASTER!D5 -> 9XXXXXXXXXXXXX9
B4: Month | C4: Basic Pay | D4: Dearness Pay | E4: Leave Pay | F4: Spl. Pay | G4: D.A. | H4: H.R.A. | I4: Washing Allow. | J4: ROP (If any, put the value in minus) | K4: Bonus | L4: Mess Allowance | M4: Hard Duty Allowance | N4: CCA | O4: Gross Salary | P4: =IF(MASTER!B8="No","GPF","GPF 2004") -> GPF 2004 | Q4: GPF LOAN | R4: SI | S4: SI LOAN + INT | T4: Coperative | U4: LIC | V4: GIS | W4: HBA Premium | X4: HBA Interest | Y4: Income Tax / TDS | Z4: RGHS | AA4: Hitkari Nidhi | AB4: Total Deduction | AC4: Net Payment | AD4: T.V. No. & Date
A5: 3 | B5: 45717 | C5: =MASTER!B7 -> 75400 | D5: 0 | E5: 0 | F5: 0 | G5: =ROUND(53%*C5,0) -> 39962 | H5: =ROUND(MASTER!$D$7*C5,0) -> 7540 | I5: 0 | J5: 0 | O5: =SUM(C5:N5) -> 122902 | P5: =IF(C5<23100,1450,IF(C5<28500,1625,IF(C5<38500,2100,IF(C5<51500,2850,IF(C5<62000,3575,IF(C5<72000,4200,IF(C5<80000,4800,IF(C5<116000,6150,IF(C5<16700,8900,10500))))))))) -> 4800 | Q5: 0 | R5: =MASTER!B6 -> 7000 | S5: 0 | V5: 0 | Z5: =IF(MASTER!$B$10="Yes",IF(C5<18000,265,IF(C5<33500,440,IF(C5<54000,658,875))),0) -> 875 | AB5: =SUM(P5:AA5) -> 12675 | AC5: =O5-AB5 -> 110227
A6: 4 | B6: 45748 | C6: =C5 -> 75400 | D6: =IF(D$5=0,0,ROUND(C6/2,0)) -> 0 | E6: =IF(E$5=0,0,E5) -> 0 | F6: =IF(F$5=0,0,F5) -> 0 | G6: =ROUND(55%*C6,0) -> 41470 | H6: =ROUND(MASTER!$D$7*C6,0) -> 7540 | I6: =IF(I$5=0,0,I5) -> 0 | J6: =IF(J$5=0,0,J5) -> 0 | L6: =L5 -> 0 | M6: =M5 -> 0 | N6: =N5 -> 0 | O6: =SUM(C6:N6) -> 124410 | P6: =IF(C6<23100,1450,IF(C6<28500,1625,IF(C6<38500,2100,IF(C6<51500,2850,IF(C6<62000,3575,IF(C6<72000,4200,IF(C6<80000,4800,IF(C6<116000,6150,IF(C6<16700,8900,10500))))))))) -> 4800 | Q6: =Q5 -> 0 | R6: =R5 -> 7000 | S6: =S5 -> 0 | U6: =U5 -> 0 | V6: =MASTER!D10 -> 1400 | W6: =W5 -> 0 | X6: =X5 -> 0 | Y6: =Y5 -> 0 | Z6: =IF(MASTER!$B$10="Yes",IF(C6<18000,265,IF(C6<33500,440,IF(C6<54000,658,875))),0) -> 875 | AA6: =AA5 -> 0 | AB6: =SUM(P6:AA6) -> 14075 | AC6: =O6-AB6 -> 110335
A7: 5 | B7: 45778 | C7: =C6 -> 75400 | D7: =IF($D$5=0,0,ROUND(C7/2,0)) -> 0 | E7: =IF(E$5=0,0,E6) -> 0 | F7: =IF(F$5=0,0,F6) -> 0 | G7: =ROUND(55%*C7,0) -> 41470 | H7: =ROUND(MASTER!$D$7*C7,0) -> 7540 | I7: =IF(I$5=0,0,I6) -> 0 | J7: =IF(J$5=0,0,J6) -> 0 | L7: =L6 -> 0 | M7: =M6 -> 0 | N7: =N6 -> 0 | O7: =SUM(C7:N7) -> 124410 | P7: =IF(C7<23100,1450,IF(C7<28500,1625,IF(C7<38500,2100,IF(C7<51500,2850,IF(C7<62000,3575,IF(C7<72000,4200,IF(C7<80000,4800,IF(C7<116000,6150,IF(C7<16700,8900,10500))))))))) -> 4800 | Q7: =Q6 -> 0 | R7: =R6 -> 7000 | S7: =S6 -> 0 | U7: =U6 -> 0 | V7: 0 | W7: =W6 -> 0 | X7: =X6 -> 0 | Y7: =Y6 -> 0 | Z7: =IF(MASTER!$B$10="Yes",IF(C7<18000,265,IF(C7<33500,440,IF(C7<54000,658,875))),0) -> 875 | AA7: =AA6 -> 0 | AB7: =SUM(P7:AA7) -> 12675 | AC7: =O7-AB7 -> 111735
A8: 6 | B8: 45809 | C8: =C7 -> 75400 | D8: =IF($D$5=0,0,ROUND(C8/2,0)) -> 0 | E8: =IF(E$5=0,0,E7) -> 0 | F8: =IF(F$5=0,0,F7) -> 0 | G8: =ROUND(55%*C8,0) -> 41470 | H8: =ROUND(MASTER!$D$7*C8,0) -> 7540 | I8: =IF(I$5=0,0,I7) -> 0 | J8: =IF(J$5=0,0,J7) -> 0 | L8: =L7 -> 0 | M8: =M7 -> 0 | N8: =N7 -> 0 | O8: =SUM(C8:N8) -> 124410 | P8: =IF(C8<23100,1450,IF(C8<28500,1625,IF(C8<38500,2100,IF(C8<51500,2850,IF(C8<62000,3575,IF(C8<72000,4200,IF(C8<80000,4800,IF(C8<116000,6150,IF(C8<16700,8900,10500))))))))) -> 4800 | Q8: =Q7 -> 0 | R8: =R7 -> 7000 | S8: =S7 -> 0 | U8: =U7 -> 0 | V8: 0 | W8: =W7 -> 0 | X8: =X7 -> 0 | Y8: =Y7 -> 0 | Z8: =IF(MASTER!$B$10="Yes",IF(C8<18000,265,IF(C8<33500,440,IF(C8<54000,658,875))),0) -> 875 | AA8: =AA7 -> 0 | AB8: =SUM(P8:AA8) -> 12675 | AC8: =O8-AB8 -> 111735
A9: 7 | B9: 45839 | C9: =MROUND(ROUND(1.03*C8,0),100) -> 77700 | D9: =IF($D$5=0,0,ROUND(C9/2,0)) -> 0 | E9: =IF(E$5=0,0,E8) -> 0 | F9: =IF(F$5=0,0,F8) -> 0 | G9: =ROUND(55%*C9,0) -> 42735 | H9: =ROUND(MASTER!$D$7*C9,0) -> 7770 | I9: =IF(I$5=0,0,I8) -> 0 | J9: =IF(J$5=0,0,J8) -> 0 | L9: =L8 -> 0 | M9: =M8 -> 0 | N9: =N8 -> 0 | O9: =SUM(C9:N9) -> 128205 | P9: =IF(C9<23100,1450,IF(C9<28500,1625,IF(C9<38500,2100,IF(C9<51500,2850,IF(C9<62000,3575,IF(C9<72000,4200,IF(C9<80000,4800,IF(C9<116000,6150,IF(C9<16700,8900,10500))))))))) -> 4800 | Q9: =Q8 -> 0 | R9: =R8 -> 7000 | S9: =S8 -> 0 | U9: =U8 -> 0 | V9: 0 | W9: =W8 -> 0 | X9: =X8 -> 0 | Y9: =Y8 -> 0 | Z9: =IF(MASTER!$B$10="Yes",IF(C9<18000,265,IF(C9<33500,440,IF(C9<54000,658,875))),0) -> 875 | AA9: =AA8 -> 0 | AB9: =SUM(P9:AA9) -> 12675 | AC9: =O9-AB9 -> 115530
A10: 8 | B10: 45870 | C10: =C9 -> 77700 | D10: =IF($D$5=0,0,ROUND(C10/2,0)) -> 0 | E10: =IF(E$5=0,0,E9) -> 0 | F10: =IF(F$5=0,0,F9) -> 0 | G10: =ROUND(55%*C10,0) -> 42735 | H10: =ROUND(MASTER!$D$7*C10,0) -> 7770 | I10: =IF(I$5=0,0,I9) -> 0 | J10: =IF(J$5=0,0,J9) -> 0 | L10: =L9 -> 0 | M10: =M9 -> 0 | N10: =N9 -> 0 | O10: =SUM(C10:N10) -> 128205 | P10: =IF(C10<23100,1450,IF(C10<28500,1625,IF(C10<38500,2100,IF(C10<51500,2850,IF(C10<62000,3575,IF(C10<72000,4200,IF(C10<80000,4800,IF(C10<116000,6150,IF(C10<16700,8900,10500))))))))) -> 4800 | Q10: =Q9 -> 0 | R10: =R9 -> 7000 | S10: =S9 -> 0 | U10: =U9 -> 0 | V10: 0 | W10: =W9 -> 0 | X10: =X9 -> 0 | Y10: =Y9 -> 0 | Z10: =IF(MASTER!$B$10="Yes",IF(C10<18000,265,IF(C10<33500,440,IF(C10<54000,658,875))),0) -> 875 | AA10: =AA9 -> 0 | AB10: =SUM(P10:AA10) -> 12675 | AC10: =O10-AB10 -> 115530
A11: 9 | B11: 45901 | C11: =C10 -> 77700 | D11: =IF($D$5=0,0,ROUND(C11/2,0)) -> 0 | E11: =IF(E$5=0,0,E10) -> 0 | F11: =IF(F$5=0,0,F10) -> 0 | G11: =ROUND(55%*C11,0) -> 42735 | H11: =ROUND(MASTER!$D$7*C11,0) -> 7770 | I11: =IF(I$5=0,0,I10) -> 0 | J11: =IF(J$5=0,0,J10) -> 0 | L11: =L10 -> 0 | M11: =M10 -> 0 | N11: =N10 -> 0 | O11: =SUM(C11:N11) -> 128205 | P11: =IF(C11<23100,1450,IF(C11<28500,1625,IF(C11<38500,2100,IF(C11<51500,2850,IF(C11<62000,3575,IF(C11<72000,4200,IF(C11<80000,4800,IF(C11<116000,6150,IF(C11<16700,8900,10500))))))))) -> 4800 | Q11: =Q10 -> 0 | R11: =R10 -> 7000 | S11: =S10 -> 0 | U11: =U10 -> 0 | W11: =W10 -> 0 | X11: =X10 -> 0 | Y11: =Y10 -> 0 | Z11: =IF(MASTER!$B$10="Yes",IF(C11<18000,265,IF(C11<33500,440,IF(C11<54000,658,875))),0) -> 875 | AA11: =AA10 -> 0 | AB11: =SUM(P11:AA11) -> 12675 | AC11: =O11-AB11 -> 115530
A12: 10 | B12: 45931 | C12: =C11 -> 77700 | D12: =IF($D$5=0,0,ROUND(C12/2,0)) -> 0 | E12: =IF(E$5=0,0,E11) -> 0 | F12: =IF(F$5=0,0,F11) -> 0 | G12: =ROUND(58%*C12,0) -> 45066 | H12: =ROUND(MASTER!$D$7*C12,0) -> 7770 | I12: =IF(I$5=0,0,I11) -> 0 | J12: =IF(J$5=0,0,J11) -> 0 | L12: =L11 -> 0 | M12: =M11 -> 0 | N12: =N11 -> 0 | O12: =SUM(C12:N12) -> 130536 | P12: =IF(C12<23100,1450,IF(C12<28500,1625,IF(C12<38500,2100,IF(C12<51500,2850,IF(C12<62000,3575,IF(C12<72000,4200,IF(C12<80000,4800,IF(C12<116000,6150,IF(C12<16700,8900,10500))))))))) -> 4800 | Q12: =Q11 -> 0 | R12: =R11 -> 7000 | S12: =S11 -> 0 | U12: =U11 -> 0 | V12: 0 | W12: =W11 -> 0 | X12: =X11 -> 0 | Y12: =Y11 -> 0 | Z12: =IF(MASTER!$B$10="Yes",IF(C12<18000,265,IF(C12<33500,440,IF(C12<54000,658,875))),0) -> 875 | AA12: =AA11 -> 0 | AB12: =SUM(P12:AA12) -> 12675 | AC12: =O12-AB12 -> 117861
A13: 11 | B13: 45962 | C13: =C12 -> 77700 | D13: =IF($D$5=0,0,ROUND(C13/2,0)) -> 0 | E13: =IF(E$5=0,0,E12) -> 0 | F13: =IF(F$5=0,0,F12) -> 0 | G13: =ROUND(58%*C13,0) -> 45066 | H13: =ROUND(MASTER!$D$7*C13,0) -> 7770 | I13: =IF(I$5=0,0,I12) -> 0 | J13: =IF(J$5=0,0,J12) -> 0 | L13: =L12 -> 0 | M13: =M12 -> 0 | N13: =N12 -> 0 | O13: =SUM(C13:N13) -> 130536 | P13: =IF(C13<23100,1450,IF(C13<28500,1625,IF(C13<38500,2100,IF(C13<51500,2850,IF(C13<62000,3575,IF(C13<72000,4200,IF(C13<80000,4800,IF(C13<116000,6150,IF(C13<16700,8900,10500))))))))) -> 4800 | Q13: =Q12 -> 0 | R13: =R12 -> 7000 | S13: =S12 -> 0 | U13: =U12 -> 0 | V13: 0 | W13: =W12 -> 0 | X13: =X12 -> 0 | Y13: =Y12 -> 0 | Z13: =IF(MASTER!$B$10="Yes",IF(C13<18000,265,IF(C13<33500,440,IF(C13<54000,658,875))),0) -> 875 | AA13: =AA12 -> 0 | AB13: =SUM(P13:AA13) -> 12675 | AC13: =O13-AB13 -> 117861
A14: 12 | B14: 45992 | C14: =C13 -> 77700 | D14: =IF($D$5=0,0,ROUND(C14/2,0)) -> 0 | E14: =IF(E$5=0,0,E13) -> 0 | F14: =IF(F$5=0,0,F13) -> 0 | G14: =ROUND(58%*C14,0) -> 45066 | H14: =ROUND(MASTER!$D$7*C14,0) -> 7770 | I14: =IF(I$5=0,0,I13) -> 0 | J14: =IF(J$5=0,0,J13) -> 0 | L14: =L13 -> 0 | M14: =M13 -> 0 | N14: =N13 -> 0 | O14: =SUM(C14:N14) -> 130536 | P14: =IF(C14<23100,1450,IF(C14<28500,1625,IF(C14<38500,2100,IF(C14<51500,2850,IF(C14<62000,3575,IF(C14<72000,4200,IF(C14<80000,4800,IF(C14<116000,6150,IF(C14<16700,8900,10500))))))))) -> 4800 | Q14: =Q13 -> 0 | R14: =R13 -> 7000 | S14: =S13 -> 0 | U14: =U13 -> 0 | V14: 0 | W14: =W13 -> 0 | X14: =X13 -> 0 | Y14: =Y13 -> 0 | Z14: =IF(MASTER!$B$10="Yes",IF(C14<18000,265,IF(C14<33500,440,IF(C14<54000,658,875))),0) -> 875 | AA14: 250 | AB14: =SUM(P14:AA14) -> 12925 | AC14: =O14-AB14 -> 117611
A15: 1 | B15: 46023 | C15: =C14 -> 77700 | D15: =IF($D$5=0,0,ROUND(C15/2,0)) -> 0 | E15: =IF(E$5=0,0,E14) -> 0 | F15: =IF(F$5=0,0,F14) -> 0 | G15: =ROUND(58%*C15,0) -> 45066 | H15: =ROUND(MASTER!$D$7*C15,0) -> 7770 | I15: =IF(I$5=0,0,I14) -> 0 | J15: =IF(J$5=0,0,J14) -> 0 | L15: =L14 -> 0 | M15: =M14 -> 0 | N15: =N14 -> 0 | O15: =SUM(C15:N15) -> 130536 | P15: =IF(C15<23100,1450,IF(C15<28500,1625,IF(C15<38500,2100,IF(C15<51500,2850,IF(C15<62000,3575,IF(C15<72000,4200,IF(C15<80000,4800,IF(C15<116000,6150,IF(C15<16700,8900,10500))))))))) -> 4800 | Q15: =Q14 -> 0 | R15: =R14 -> 7000 | S15: =S14 -> 0 | U15: =U14 -> 0 | V15: 0 | W15: =W14 -> 0 | X15: =X14 -> 0 | Y15: =Y14 -> 0 | Z15: =IF(MASTER!$B$10="Yes",IF(MASTER!$B$8="Yes",IF(C15<18000,265,IF(C15<33500,440,IF(C15<54000,658,875))),'GA-55'!T14),0) -> 875 | AB15: =SUM(P15:AA15) -> 12675 | AC15: =O15-AB15 -> 117861
A16: 2 | B16: 46054 | C16: =C15 -> 77700 | D16: =IF($D$5=0,0,ROUND(C16/2,0)) -> 0 | E16: =IF(E$5=0,0,E15) -> 0 | F16: =IF(F$5=0,0,F15) -> 0 | G16: =ROUND(58%*C16,0) -> 45066 | H16: =ROUND(MASTER!$D$7*C16,0) -> 7770 | I16: =IF(I$5=0,0,I15) -> 0 | J16: =IF(J$5=0,0,J15) -> 0 | L16: =L15 -> 0 | M16: =M15 -> 0 | N16: =N15 -> 0 | O16: =SUM(C16:N16) -> 130536 | P16: =IF(C16<23100,1450,IF(C16<28500,1625,IF(C16<38500,2100,IF(C16<51500,2850,IF(C16<62000,3575,IF(C16<72000,4200,IF(C16<80000,4800,IF(C16<116000,6150,IF(C16<16700,8900,10500))))))))) -> 4800 | Q16: =Q15 -> 0 | R16: =R15 -> 7000 | S16: =S15 -> 0 | U16: =U15 -> 0 | V16: 0 | W16: =W15 -> 0 | X16: =X15 -> 0 | Y16: =Y15 -> 0 | Z16: =IF(MASTER!$B$10="Yes",IF(MASTER!$B$8="Yes",IF(C16<18000,265,IF(C16<33500,440,IF(C16<54000,658,875))),'GA-55'!T15),0) -> 875 | AB16: =SUM(P16:AA16) -> 12675 | AC16: =O16-AB16 -> 117861
B17: DA Arrear (07/25-9/25) | G17: =IF(MASTER!B12="Yes",(G13-G9)+(G13-G10)+(G13-G11)+(G13-G12),0) -> 6993 | O17: =SUM(C17:N17) -> 6993 | P17: =G17 -> 6993 | U17: 0 | AB17: =SUM(P17:AA17) -> 6993 | AC17: =O17-AB17 -> 0
B18: DA Arrear (01/25-03/25) | G18: =IF(MASTER!D12="Yes",C5*0.02*3,0) -> 4524 | O18: =SUM(C18:N18) -> 4524 | P18: =G18 -> 4524 | AB18: =SUM(P18:AA18) -> 4524 | AC18: =O18-AB18 -> 0
B19: Surrender | C19: =IF(MASTER!B9="NO",0,IF(MASTER!D9=3,C16,VLOOKUP(MASTER!D9,A5:C16,3,FALSE)))/2 -> 37700 | G19: =IF(MASTER!B9="NO",0,IF(MASTER!D9=3,G16,VLOOKUP(MASTER!D9,A5:G16,7,FALSE)))/2 -> 20735 | O19: =SUM(C19:N19) -> 58435 | AB19: =SUM(P19:AA19) -> 0 | AC19: =O19-AB19 -> 58435
B20: Bonus | K20: =IF(MASTER!D8="Yes",6774,0) -> 0 | O20: =SUM(C20:N20) -> 0 | P20: =IF(MASTER!$D$8="YES",ROUND(K20/4,0),0) -> 0 | AB20: =SUM(P20:AA20) -> 0 | AC20: =O20-AB20 -> 0
B21: Fixation Arrear | O21: =SUM(C21:N21) -> 0 | AB21: =SUM(P21:AA21) -> 0 | AC21: =O21-AB21 -> 0
B22: Salary Arrear 1 | O22: =SUM(C22:N22) -> 0 | AB22: =SUM(P22:AA22) -> 0 | AC22: =O22-AB22 -> 0
B23: Salary Arrear 2 | O23: =SUM(C23:N23) -> 0 | AB23: =SUM(P23:AA23) -> 0 | AC23: =O23-AB23 -> 0
B24: Salary Arrear 3 | O24: =SUM(C24:N24) -> 0 | AB24: =SUM(P24:AA24) -> 0 | AC24: =O24-AB24 -> 0
B25: Other | D25: 0 | E25: 0 | O25: =SUM(C25:N25) -> 0 | AB25: =SUM(P25:AA25) -> 0 | AC25: =O25-AB25 -> 0
B26: TOTAL | C26: =SUM(C5:C25) -> 960900 | D26: =SUM(D5:D25) -> 0 | E26: =SUM(E5:E25) -> 0 | F26: =SUM(F5:F25) -> 0 | G26: =SUM(G5:G25) -> 550159 | H26: =SUM(H5:H25) -> 92320 | I26: =SUM(I5:I25) -> 0 | J26: =SUM(J5:J25) -> 0 | ... N26: =SUM(N5:N25) -> 0 | O26: =SUM(C26:N26) -> 1603379 | P26: =SUM(P5:P25) -> 69117 | Q26: =SUM(Q5:Q25) -> 0 | R26: =SUM(R5:R25) -> 84000 | S26: =SUM(S5:S25) -> 0 | T26: =SUM(T5:T25) -> 0 | U26: =SUM(U5:U25) -> 0 | V26: =SUM(V5:V25) -> 1400 | W26: =SUM(W5:W25) -> 0 | ... AC26: =SUM(AC5:AC25) -> 1438112
C28: https://yogeshmaheshwari.com/vetan-draw/ | X28: =MASTER!B4 -> Employee Name
X29: ="("&MASTER!D4&")" -> (Teacher) | AC29: Signature of Office
A35: Signature of Office

Sheet Other Deduction
A1: osru ds vfrfjDr dVkSfr;k¡] vk;@tek jkf'k ,oa NwV dk fooj.k
A2: =MASTER!B4 -> Employee Name | B2: =MASTER!D4 -> Teacher | C2: =MASTER!B5 -> AAAAAXXXXA
A3: 1- edku fdjk;k HkRrk ¼ NwV tks ysuh gS½ | B3: 0 | C3: 17- cpr [kkrs dh tek jkf'k ij izkIr C;kt (80 TTA/80 TTB) gsrq | D3: 0 | E3: BASIC+D.A. | DQ3: UPS Kuhada Khurd
A4: 2- euksjatu Hkrk /kkjk 16 ¼ii½ ds vUrxZr | B4: 0 | C4: 18- vU; vk; ¼,Q Mh ij C;kt] vU; C;kt ;k vU; L=ks+= ls vk; vkfn dk ;ksx½ | D4: 0 | E4: ='GA-55'!O26-'GA-55'!H26 -> 1511059
A5: 3- O;o;k; dj /kkjk 16 ¼iii½ ds vUrxrZ | B5: 0 | C5: 19- vU; tek jkf'k ¼/kkjk 80 lh ds vUrxZr½ | D5: 0 | E5: Taxable Amt
A6: 4- x`g lEifr ls izkIr fdjk;k & vk; | B6: 0 | C6: 20- /kkjk 80CCC - isa'ku Iyku gsrq va'knku ¼,u-ih-,l- ds avykok½ | D6: 0 | E6: ='Tax Old Regime'!Q46 -> 1403380
A7: 5- x`gdj | B7: 0 | C7: 21- /kkjk 80CCD(1B) -uohu isa'ku ;kstuk esa vfrfjDr va'knku ¼vf/kdre :- 50]000½ | D7: 0 | E7: Tax Deposited
A8: 6- x`g _.k fdLr ewy ¼tks osru ls ugha dkVk x;k½ | B8: 0 | C8: 22- /kkjk 80D - fpfdRlk chek izhfe;e ¼lkekU; 25000] ofj"B ukxfjd 50000½ | D8: 0 | E8: ='GA-55'!Y26 -> 0
A9: 7- x`g _.k fdLr C;kt ¼tks osru ls ugha dkVk x;k½ | B9: 0 | C9: 23- /kkjk 80DD - fodykax vkfJrksa ds fpfdRlk mipkj¼vf/kdre 75000] 80% fodykaxrk 125000½ | D9: 0 | E9: Rebate Under Section 80C, 80CCC, 80CCD(1)
A10: 8- thou chek izhfe;e ¼tks osru ls ugh dkVk x;k½ LIC | B10: 0 | C10: 24- /kkjk 80DDB - fof'k"V jksxksa ds mipkj gsrq dVkSrh ¼lkekU; 40000] ofj"B ukxfjd 1 yk[k½ | D10: 0 | DQ10: UPS Banediya Charnan
A11: 9- ih-,y-vkbZ- (PLI) | B11: 0 | C11: 25- /kkjk 80E - mPp f'k{kk gsrq fy, _.k dk C;kt ¼/kkjk 80E½ | D11: 0 | DQ11: UPS Laxmipura Dhakaran
A12: 10- V;w'ku Qhl (Tution Fees) | B12: 0 | C12: 26- /kkjk 80G - /kekZFkZ laLFkkvksa vkfn dks fn;s nku ¼d Js.kh 100% ,oa [k Js.kh 50%½ | D12: 0 | E12: ='Tax Old Regime'!Q30 -> 150000 | DQ12: UPS Pathraj Kala
A13: 11- ;w- ,y- vkbZ- ih-@okf"kZd Iyku | B13: 0 | C13: 27- /kkjk 80U - LFkkbZ 'kkjhfjd fodykaxrk ¼vf/kdre 75000] 80% fodykaxrk 125000½ | D13: 0
A14: 12- jk"Vªh; cpr i= (NSC) | B14: 0 | C14: 28- /kkjk 80 GGA - vuqeksfnr oSKkfud]lkekftd]xzkeh.k fodkl vkfn gsrq fn;k x;k nku | D14: 0 | E14: edku fdjk;k NwV ds fy, jlhn dh vko';drk | DQ14: PS Aarampura
A15: 13- jk"Vªh; cpr i= ij vnr C;kt | B15: 0 | C15: 29- bfDoVh fyad lsfoax Ldhe | D15: 0 | DQ15: UPS Laxmipura Dhakaran
A16: 14- yksd Hkfo"; fuf/k (PPF) | B16: 0 | C16: 30- LFkfxr okf"kZdh | D16: 0 | DQ16: UPS Raghunathpura
A17: 15- jk"Vªh; cpr Ldhe | B17: 0 | C17: 31- jkgr /kkjk 89 ds rgr | D17: 0 | E17: =IF(B3>=1,(E4*10%+B3),0) -> 0 | DQ17: UPS Manda
A18: 16- lqdU;k le`f) ;kstuk (SSY) | B18: 0 | C18: 32- osru fcy ds vykok tek djk;k x;k aavk;dj (TDS) | D18: 0 | DQ18: UPS Sandla
A19: ='Tax Old Regime'!B62 -> Income Tax Payable | C19: ='Tax Old Regime'!Q62 -> 242855 | D19: HRA | E19: ='GA-55'!H26 -> 92320 | DQ19: UPS Ramsinghpura
A20: ="Total Rebate of (US 80C, 80CCC,80CCD(1)) = "&'Tax Old Regime'!Q30 -> Total Rebate of (US 80C, 80CCC,80CCD(1)) = 150000 | C20: ="Investable Amount = "&(150000-'Tax Old Regime'!Q30) -> Investable Amount = 0 | DQ20: GSS Ganeshganj

Sheet Tax Old Regime
B1: ='GA-55'!B1 -> GSSS
B2: vk;dj x.kuk izi= o"kZ 2025&2026¼dj fu/kkZj.k o"kZ 2026&2027½ (OLD TAX REGIME)
B3: 1 | C3: uke deZpkjh % | E3: =MASTER!B4 -> Employee Name | I3: in % | J3: =MASTER!D4 -> Teacher | L3: Mobile No | M3: =MASTER!D6 -> 0 | O3: PAN : | P3: =MASTER!B5 -> AAAAAXXXXA
B4: 2 | C4: vk; % o"kZ&2025&26 esa izkIr dqy osru ¼ dj ;ksX; lqfo/kkvksa ds eqY; lfgr ½ | P4: #- | Q4: ='GA-55'!O26 -> 1603379
B5: 3 | C5: x`g fdjk;k] /kkjk 10¼13&A½ ds vUrxrZ ,oa /kkjk 10¼14½ds vUrxrZ vU; Hkrs tks dj eqDÙk gSA | P5: #- | Q5: ='Other Deduction'!B3 -> 0
B6: 4 | C6: 'ks"k ¼2&3½ | P6: #- | Q6: =Q4-Q5 -> 1603379
B7: 5 | C7: ¼i½euksjatu Hkrk /kkjk 16 ¼ii½ ds vUrxrZ ¼ vf/kdre lhek : 5000 ½ | M7: ='Other Deduction'!B4 -> 0
C8: ¼ii½ O;o;k; dj /kkjk 16 ¼iii½ ds vUrxrZ | M8: ='Other Deduction'!B5 -> 0
C9: ¼iiI½ LVs.MMZ fMMsD'ku (Standard Deduction) 50]000 ¼vf/kdre½ | M9: =IF(Q6<50000,Q6,50000) -> 50000 | P9: #- | Q9: =SUM(M7:O9) -> 50000
B10: 6 | C10: 'ks"k ¼4&5½ | P10: #- | Q10: =Q6-Q9 -> 1553379
B11: 7 | C11: ¼v½x`g lEifr ls vk;%¼1½ Loa; ds mi;ksx esa &'kwU; | K11: ¼2½ izkIr fdjk;k #- | M11: ='Other Deduction'!B6 -> 0
C12: ¼c½ ?kVk;sa | E12: fdjk;s dk 30% | H12: x`g _.k ij C;kt | K12: x`gdj | M12: ;ksx 7¼c½
E13: =ROUND(M11*0.3,0) -> 0 | H13: =IF(('GA-55'!X26+'Other Deduction'!B9)>200000,200000,('GA-55'!X26+'Other Deduction'!B9)) -> 0 | K13: ='Other Deduction'!B7 -> 0 | M13: =E13+H13+K13 -> 0
C14: 'ks"k &@$¼7¼v½ ,oa ;ksx 7¼c½ dk½ | P14: #- | Q14: =M11-M13 -> 0
B15: 8 | C15: dqy 'ks"k &@$¼6,oa 7½ | P15: #- | Q15: =Q10+Q14 -> 1553379
B16: 9 | C16: vU; vk; | P16: #- | Q16: ='Other Deduction'!D3+'Other Deduction'!D4 -> 0
B17: 10 | C17: ldy vk; ;ksx ¼8$9½ | P17: #- | Q17: =Q15+Q16 -> 1553379
B18: 11 | C18: ?kVkb;s dVkSSfr;k¡ %& /kkjk US 80C, 80CCC,80CCD (1)
C19: (A) vf/kdre lhek 1]50]000@& ¼/kkjk 80CCE ½ ] ¼/kkjk 80CCD (2), ds vykok
C20: (i) | D20: jkT; chek ¼SI) | H20: #- | I20: ='GA-55'!R26 -> 84000 | J20: (x) | K20: ljdkjh isa'ku ;kstuk esa va'knku ECPF vf/kdre osru dk 10%¼/kkjk 80ccd½ | N20: #- | O20: 0
C21: (ii) | D21: thou chek izhfe;e ¼LIC) | H21: #- | I21: ='GA-55'!U26+'Other Deduction'!B10 -> 0 | J21: (xi) | K21: isa'ku Iyku gsrq va'knku¼/kkjk 80ccc½ | N21: #- | O21: ='Other Deduction'!D6 -> 0
C22: (iii) | D22: jk"Vªh; cpr i= ¼NSC) | H22: #- | I22: ='Other Deduction'!B14 -> 0 | J22: (xii) | K22: jk"Vªh; cpr i= ij vnr C;kt | N22: #- | O22: ='Other Deduction'!B15 -> 0
C23: (iv) | D23: yksd Hkfo"; fuf/k ¼PPF) | H23: #- | I23: ='Other Deduction'!B16 -> 0 | J23: (xiii) | K23: V;w'ku Qhl | N23: #- | O23: ='Other Deduction'!B12 -> 0
C24: (v) | D24: jk"Vªh; cpr Ldhe ¼NSS) | H24: #- | I24: ='Other Deduction'!B17 -> 0 | J24: (xiv) | K24: bfDoVh fyad lsfoax Ldhe | N24: #- | O24: ='Other Deduction'!D15 -> 0
C25: (vi) | D25: =IF(MASTER!B8="No","GPF","GPF 2004") -> GPF 2004 | H25: #- | I25: ='GA-55'!P26 -> 69117 | J25: (xv) | K25: LFkfxr okf"kZdh ¼Defferred Annuty) | N25: #- | O25: ='Other Deduction'!D16 -> 0
C26: (vii) | D26: lkewfgd chek izhfe;e ¼G.Ins.) | H26: #- | I26: ='GA-55'!V6 -> 1400 | J26: (xvi) | K26: ih-,y-vkbZ- ¼PLI) | N26: #- | O26: ='Other Deduction'!B11 -> 0
C27: (viii) | D27: ;w- ,y- vkbZ- ih-@okf"kZd Iyku | H27: #- | I27: ='Other Deduction'!B13 -> 0 | J27: (xvii) | K27: vU; tekjkf'k ¼/kkjk 80 lh ds vUrxZr½ | N27: #- | O27: ='Other Deduction'!D5 -> 0
C28: (ix) | D28: x`g _.k fdLr ¼HBA Premium) | H28: #- | I28: ='GA-55'!W26+'Other Deduction'!B8 -> 0 | J28: (xviii) | K28: lqdU;k le`f) ;kstuk esa tek jkf'k | N28: #- | O28: ='Other Deduction'!B18 -> 0
C29: ;ksx ( i ls xviii ) | N29: #- | O29: =SUM(I20:I28)+SUM(O20:O28) -> 154517
C30: vf/kdre dVkSrh dh jkf'k 1-50 yk[k #i, rd | P30: #- | Q30: =IF(O29<150001,ROUND(O29,0),150000) -> 150000
C31: (B) ?kVkb;s& /kkjk 80CCD(2) fu;ksDrk }kjk isa'ku va'knku dh jkf'k ¼vf/kdre osru dk 10%) i`Fkd ls NwV | Q31: 0
C32: (C) ?kVkb;s & /kkjk 80CCD (1B) uohu isa'ku ;kstuk esa vfrfjDr va'knku ¼vf/kdre :- 50]000) | P32: #- | Q32: ='Other Deduction'!D7 -> 0
C33: ;ksx 11(A+B+C) | P33: #- | Q33: =SUM(Q30:Q32) -> 150000
B34: 12 | C34: vU; dVkSfr;k¡
C35: 1-/kkjk 80 D ,fpfdRlk chek izhfe;e ¼Lo;a]ifr@iRuh o cPpksa ds fy, : 25000] ekrk&firk ds fy, : 25000]lhfu;j flVhtu : 50000½ | P35: #- | Q35: ='Other Deduction'!D8 -> 0
C36: 2- /kkjk 80DD fodykax vkfJrksa ds fpfdRlk mipkj ¼vf/kdre 75]000 rFkk 80% ;k vf/kd fodykaxrk 125]000½ | P36: #- | Q36: ='Other Deduction'!D9 -> 0
C37: 3- /kkjk 80DDB fof'k"V jksaxksa ds mipkj gsrq dVkSrh ¼vf/kdre : 40]000] lhfu;j flVhtu gsrq : 100]000½ | P37: #- | Q37: ='Other Deduction'!D10 -> 0
C38: 4- /kkjk 80E mPp f'k{kk gsrq fy, _.k dk C;kt | P38: #- | Q38: ='Other Deduction'!D11 -> 0
C39: 5- /kkjk 80G /kekZFkZ laLFkkvksa vkfn dks fn;s nku ¼ d Js.kh esa 100 izfr'kr ,oa [k Js.kh esa 50 izfr'kr½ | P39: #- | Q39: ='Other Deduction'!D12 -> 0
C40: 6- /kkjk 80U LFkkbZ :i ls 'kkjhfjd vleFkZrrk dh n'kk esa ¼vf/kdre 75]000 rFkk vf/kfu;e 1995ds vuqlkj 125]000½ | P40: #- | Q40: ='Other Deduction'!D13 -> 0
...

Sheet Tax New Regime
B1: ='GA-55'!B1 -> GSSS
B2: vk;dj x.kuk izi= o"kZ 2025&2026¼dj fu/kkZj.k o"kZ 2026&2027½ (NEW TAX REGIME)
B3: 1 | C3: uke deZpkjh % | E3: =MASTER!B4 -> Employee Name | I3: in % | J3: =MASTER!D4 -> Teacher | L3: Mobile No | M3: =MASTER!D6 -> 0 | O3: PAN : | P3: =MASTER!B5 -> AAAAAXXXXA
B4: 2 | C4: vk; % o"kZ&2025&26 esa izkIr dqy osru ¼ dj ;ksX; lqfo/kkvksa ds eqY; lfgr ½ | P4: #- | Q4: ='GA-55'!O26 -> 1603379
B5: 3 | C5: ¼v½x`g lEifr ls vk;%¼1½ Loa; ds mi;ksx esa &'kwU; | K5: ¼2½ izkIr fdjk;k #- | M5: 0
C6: ¼c½ ?kVk;sa | E6: fdjk;s dk 30% | H6: x`g _.k ij C;kt Let Out House Property Only | K6: x`gdj | M6: ;ksx 3¼c½
E7: =ROUND(M5*0.3,0) -> 0 | H7: 0 | K7: ='Other Deduction'!B7 -> 0 | M7: =E7+H7+K7 -> 0
C8: 'ks"k &@$¼3¼v½ ,oa ;ksx 3¼c½ dk½ | P8: #- | Q8: =M7-M5 -> 0
B9: 4 | C9: dqy &@$¼2,oa 3½ | P9: #- | Q9: =Q4+Q8 -> 1603379
B10: 5 | C10: vU; vk; | P10: #- | Q10: ='Other Deduction'!D3+'Other Deduction'!D4 -> 0
B11: 6 | C11: ldy vk; ;ksx ¼4$5½ | P11: #- | Q11: =Q9+Q10 -> 1603379
B12: 7 | C12: ?kVkb;s dVkSSfr;k¡ %&
C13: (A)LVs.MMZ fMMsD'ku (Standard Deduction) 75]000 ¼vf/kdre½ | Q13: 75000
C14: (B)?kVkb;s& /kkjk 80CCD(2) fu;ksDrk }kjk isa'ku va'knku dh jkf'k ¼vf/kdre osru dk 14%) i`Fkd ls NwV | Q14: 0
C15: dqy ¼7A,oa 7B½ | Q15: =SUM(Q13:Q14) -> 75000
B16: 8 | C16: dj ;ksX; vk; ( 6 - 7 ) | P16: #- | Q16: =Q11-Q15 -> 1528379
B17: 9 | C17: dqy vk; dh jkf'k dks lEiw.kZ djuk ¼ nl ds xq.kd esa ½ /kkjk 288A | P17: #- | Q17: =ROUND(Q16,-1) -> 1528380
B18: 10 | C18: vk;dj dh x.kuk mijksDr dkWye 15 ds vk/kkj ij
C19: ,d O;fDr dj nkrk | H19: ofj"B ukxfjd ¼60 ls 80 o"kZ rd½ | L19: 80 o"kZ ;k vf/kd vk;q
C20: 4,00,000 rd | F20: Nil | H20: 4,00,000 rd | K20: Nil | L20: 4,00,000 rd | O20: Nil | P20: #- | Q20: 0
C21: 4,00,001-8,00,000 | F21: 0.05 | H21: 4,00,001-8,00,000 | K21: 0.05 | L21: 4,00,001-8,00,000 | O21: 0.05 | P21: #- | Q21: =ROUND(IF(Q17>800000,20000,((Q17-400000)*0.05)),0) -> 20000
C22: 8,00,001-12,00,000 | F22: 0.1 | H22: 8,00,001-12,00,000 | K22: 0.1 | L22: 8,00,001-12,00,000 | O22: 0.1 | P22: #- | Q22: =IF(Q17<800001,0,IF(Q17>1200000,40000,((Q17-800000)*0.1))) -> 40000
C23: 12,00,001-16,00,000 | F23: 0.15 | H23: 12,00,001-16,00,000 | K23: 0.15 | L23: 12,00,001-16,00,000 | O23: 0.15 | P23: #- | Q23: =IF(Q17<1200001,0,IF(Q17>1600000,60000,((Q17-1200000)*0.15))) -> 49257
C24: 16,00,001-20,00,000 | F24: 0.2 | H24: 16,00,001-20,00,000 | K24: 0.2 | L24: 16,00,001-20,00,000 | O24: 0.2 | P24: #- | Q24: =IF(Q17<1600001,0,IF(Q17>2000000,80000,((Q17-1600000)*0.2))) -> 0
C25: 20,00,001-25,00,000 | F25: 0.25 | H25: 20,00,001-25,00,000 | K25: 0.25 | L25: 20,00,001-25,00,000 | O25: 0.25 | P25: #- | Q25: =IF(Q18<2000001,0,IF(Q18>2500000,125000,((Q18-2000000)*0.25))) -> 0
C26: 25,00,001 ls vf/kd | F26: 0.3 | H26: 25,00,001 ls vf/kd | K26: 0.3 | L26: 25,00,001 ls vf/kd | O26: 0.3 | P26: #- | Q26: =IF(Q17<2500001,0,(Q17-2500000)*0.3) -> 0
C27: ¼1½ ;ksx vk;dj | P27: #- | Q27: =SUM(Q20:Q26) -> 109257
C28: ¼2½ NwV ?kkjk 87¼A½ ¼12-00 yk[k rd dh dj ;ksX; vk; ij vk;dj dh NwV ½ या छूट धारा 115A (Marginal Relief) | P28: #- | Q28: =IF(Q17<1200001,Q27,IF(Q17>1275000,0,Q27-(Q17-1200000))) -> 0
C29: ¼3½ 'ks"k vk;dj ¼1&2½ | P29: #- | Q29: =Q27-Q28 -> 109257
C30: ¼4½ f'k{kk midj 2% ,oa mPp f'k{kk ds fy, vf/kHkkj 2% (;ksx 4%) | P30: #- | Q30: =ROUND(Q29*0.04,0) -> 4370
C31: dqy vk;dj ¼3$4½ | P31: #- | Q31: =SUM(Q29:Q30) -> 113627
B32: 11 | C32: ?kVkb;s %& jkgr /kkjk 89 ds rgr | P32: #- | Q32: ='Other Deduction'!D17 -> 0
B33: 12 | C33: dqy 'ks"k vk;dj | P33: #- | Q33: =Q31-Q32 -> 113627
B34: 13 | C34: vk;dj dVkSrh dk fooj.k | F34: flrEcj 2025 rd :i;s | J34: अक्टूबर से fnlEcj 2025 rd :i;s | L34: tuojh 2026 rd :i;s | M34: Qjojh 2026 rd :i;s | O34: Vh-Mh-,l- :Ik;s | P34: ;ksx dkWye 19
F35: =SUM('GA-55'!Y5:Y11) -> 0 | J35: =SUM('GA-55'!Y12:Y14) -> 0 | L35: ='GA-55'!Y15 -> 0 | M35: ='GA-55'!Y16 -> 0 | O35: =SUM('GA-55'!Y17:Y25)+'Other Deduction'!D18 -> 0 | P35: =F35+J35+L35+M35+O35 -> 0
B36: =IF(Q33>P35,"Income Tax Payable",IF(Q33<P35,"Income Tax Refundable","Income Tax Payble/Refundable")) -> Income Tax Payable | P36: #- | Q36: =IF(Q33>P35,Q33-P35,P35-Q33) -> 113627
D40: https://yogeshmaheshwari.com/vetan-draw/ | O40: =MASTER!B4 -> Employee Name
O41: =MASTER!D4 -> Teacher
